BEGIN:VCALENDAR
VERSION:2.0
PRODID:gruene-bergstrasse.de
METHOD:PUBLISH
BEGIN:VTIMEZONE
TZID:Europe/Berlin
X-LIC-LOCATION:Europe/Berlin
BEGIN:DAYLIGHT
TZOFFSETFROM:+0100
TZOFFSETTO:+0200
TZNAME:CEST
DTSTART:19700329T020000
RRULE:FREQ=YEARLY;INTERVAL=1;BYDAY=-1SU;BYMONTH=3
END:DAYLIGHT
BEGIN:STANDARD
TZOFFSETFROM:+0200
TZOFFSETTO:+0100
TZNAME:CET
DTSTART:19701025T030000
RRULE:FREQ=YEARLY;INTERVAL=1;BYDAY=-1SU;BYMONTH=10
END:STANDARD
END:VTIMEZONE
BEGIN:VEVENT
UID:2998a3b20601f25418770e738aefc35c@gruene-bergstrasse.de
URL;VALUE=URI:https://gruene-bergstrasse.de/termine/auf-einen-kaffee-mit-
 franziska/
LOCATION:Saalbau Lichtspiele, Wilhelmstraße 38, Heppenheim
SUMMARY:Auf einen Kaffee mit Franziska
DESCRIPTION;ALTREP="data:text/html,%0A%3Cp%3EZum%20Abschluss%20des%20GR%C
 3%9CNEN-Wahlkampfes%20im%20Kreis%20Bergstra%C3%9Fe%20kommt%20die%20Bundes
 vorsitzende%20von%20B%C3%BCndnis%6090%2FDIE%20GR%C3%9CNEN%20nach%20Heppen
 heim.%3C%2Fp%3E%0A%0A%0A%0A%3Cp%3EDie%20Veranstaltung%20steht%20unter%20d
 em%20Motto%20%22Auf%20einen%20Kaffee%20mit%20Franziska%22%20und%20findet%
 20am%26nbsp%3B%3Cstrong%3E14.03.2026%26nbsp%3B%3C%2Fstrong%3Eum%26nbsp%3B
 %3Cstrong%3E15%3A00h%3C%2Fstrong%3E%26nbsp%3Bim%20Foyer%20des%20Saalbau-K
 inos%20in%26nbsp%3BHeppenheim%20%28Wilhelmstrasse%2038%2C%2064646%20Heppe
 nheim%29%20statt.%20Zu%20dieser%20Veranstaltung%20sind%20Interessierte%20
 herzlich%20eingeladen.%20F%C3%BCr%20Kaffee%20und%20Kuchen%20ist%20gesorgt
 .%3C%2Fp%3E%0A":Zum Abschluss des GRÜNEN-Wahlkampfes im Kreis Bergstraß
 e kommt die Bundesvorsitzende von Bündnis`90/DIE GRÜNEN nach Heppenheim
 .\n\nDie Veranstaltung steht unter dem Motto "Auf einen Kaffee mit Franzi
 ska" und findet am 14.03.2026 um 15:00h im Foyer des Saalbau-Kinos in
  Heppenheim (Wilhelmstrasse 38\, 64646 Heppenheim) statt. Zu dieser Vera
 nstaltung sind Interessierte herzlich eingeladen. Für Kaffee und Kuchen 
 ist gesorgt.
CLASS:PUBLIC
DTSTART;TZID=Europe/Berlin:20260314T150000
DTEND;TZID=Europe/Berlin:20260314T180000
DTSTAMP:20260420T060706
END:VEVENT
END:VCALENDAR